BEGIN:VCALENDAR
VERSION:2.0
PRODID:-//Tukios.com/
BEGIN:VEVENT
UID:584f0b28-85ed-4f66-b2ed-305f57c56f0b@www.avingerfh.com
DTSTAMP:20260420T232158Z
DTSTART:20260424T160000Z
DTEND:20260424T170000Z
SUMMARY:Memorial Service
DESCRIPTION:
URL:https://www.avingerfh.com/obituaries/delane-connor
LOCATION:Bethlehem Southern Methodist Church 229 Bethlehem Road  Holly 
	Hill SC 29059
GEO:33.3711679;-80.3822898
END:VEVENT
END:VCALENDAR