BEGIN:VCALENDAR
VERSION:2.0
PRODID:-//Tukios.com/
BEGIN:VEVENT
UID:5a0fb3bd-b688-4dcf-8838-dcd200f6a9a2@www.avingerfh.com
DTSTAMP:20260420T232826Z
DTSTART:20260424T150000Z
DTEND:20260424T160000Z
SUMMARY:Visitation
DESCRIPTION:
URL:https://www.avingerfh.com/obituaries/delane-connor
LOCATION:Bethlehem Southern Methodist Church 229 Bethlehem Road  Holly 
	Hill SC 29059
GEO:33.3711679;-80.3822898
END:VEVENT
END:VCALENDAR